BEGIN:VCALENDAR
VERSION:2.0
PRODID:-//UCP - ECPv6.15.0.1//NONSGML v1.0//EN
CALSCALE:GREGORIAN
METHOD:PUBLISH
X-WR-CALNAME:UCP
X-ORIGINAL-URL:https://ucphuntsville.org
X-WR-CALDESC:Events for UCP
REFRESH-INTERVAL;VALUE=DURATION:PT1H
X-Robots-Tag:noindex
X-PUBLISHED-TTL:PT1H
BEGIN:VTIMEZONE
TZID:UTC
BEGIN:STANDARD
TZOFFSETFROM:+0000
TZOFFSETTO:+0000
TZNAME:UTC
DTSTART:20210101T000000
END:STANDARD
END:VTIMEZONE
BEGIN:VEVENT
DTSTART;TZID=UTC:20210809T080000
DTEND;TZID=UTC:20210908T080000
DTSTAMP:20260421T161129
CREATED:20210726T155451Z
LAST-MODIFIED:20210726T155452Z
UID:4156-1628496000-1631088000@ucphuntsville.org
SUMMARY:Little Explorers Play-Based Social Group: Fall Registration
DESCRIPTION:
URL:https://ucphuntsville.org/event/little-explorers-play-based-social-group-fall-registration/
LOCATION:UCP Therapy Center\, 2075 Max Luther Drive NW\, Huntsville\, AL\, 35810
ORGANIZER;CN="Children's Therapy Services":MAILTO:swright@ucphuntsville.org
END:VEVENT
BEGIN:VEVENT
DTSTART;VALUE=DATE:20210806
DTEND;VALUE=DATE:20210808
DTSTAMP:20260421T161129
CREATED:20210728T143136Z
LAST-MODIFIED:20210728T143136Z
UID:4174-1628208000-1628380799@ucphuntsville.org
SUMMARY:Kendra Scott Gives Back Days for UCP
DESCRIPTION:
URL:https://ucphuntsville.org/event/kendra-scott-gives-back-days-for-ucp/
END:VEVENT
END:VCALENDAR