BEGIN:VCALENDAR
VERSION:2.0
PRODID:-//UCP - ECPv6.15.0.1//NONSGML v1.0//EN
CALSCALE:GREGORIAN
METHOD:PUBLISH
X-ORIGINAL-URL:https://ucphuntsville.org
X-WR-CALDESC:Events for UCP
REFRESH-INTERVAL;VALUE=DURATION:PT1H
X-Robots-Tag:noindex
X-PUBLISHED-TTL:PT1H
BEGIN:VTIMEZONE
TZID:UTC
BEGIN:STANDARD
TZOFFSETFROM:+0000
TZOFFSETTO:+0000
TZNAME:UTC
DTSTART:20240101T000000
END:STANDARD
END:VTIMEZONE
BEGIN:VEVENT
DTSTART;TZID=UTC:20240821T080000
DTEND;TZID=UTC:20270928T170000
DTSTAMP:20260420T213133
CREATED:20220824T190243Z
LAST-MODIFIED:20251215T221923Z
UID:4457-1724227200-1822150800@ucphuntsville.org
SUMMARY:UCP Holiday Office Hours
DESCRIPTION:All UCP Huntsville offices and programs will be closed to observe the following holidays: \n2025 \nWinter Holidays: Dec. 24-31\, 2025 \n2026 \nNew Year’s: Jan. 1-2 \nMemorial Day: May 25 \nIndependence Day: July 3 \nLabor Day: Sept. 7 \nThanksgiving: Nov. 25-27 \nWinter Holidays: Dec. 24-31\, 2026
URL:https://ucphuntsville.org/event/ucp-holiday-office-hours/
LOCATION:AL
ORGANIZER;CN="UCP Huntsville":MAILTO:nthompson@ucphuntsville.org
END:VEVENT
BEGIN:VEVENT
DTSTART;TZID=UTC:20250627T080000
DTEND;TZID=UTC:20251231T170000
DTSTAMP:20260420T213133
CREATED:20250627T141019Z
LAST-MODIFIED:20250822T134334Z
UID:5286-1751011200-1767200400@ucphuntsville.org
SUMMARY:Caregiver Education Trainings via Zoom
DESCRIPTION:Read our August 2025 ALR Newsletterto learn about and register for weekly caregiver education trainings offered via Zoom by Alabama Lifespan Respite\, a statewide program of UCP Huntsville.\n 
URL:https://ucphuntsville.org/event/caregiver-education-trainings-via-zoom/
LOCATION:Zoom
ORGANIZER;CN="Alabama Lifespan Respite/UCP Huntsville":MAILTO:tracyc@ucphuntsville.org
END:VEVENT
BEGIN:VEVENT
DTSTART;TZID=UTC:20260116T100000
DTEND;TZID=UTC:20260116T110000
DTSTAMP:20260420T213133
CREATED:20260114T211016Z
LAST-MODIFIED:20260114T211016Z
UID:5689-1768557600-1768561200@ucphuntsville.org
SUMMARY:Emergency Preparedness for Persons with Disabilities Training
DESCRIPTION:Register HERE
URL:https://ucphuntsville.org/event/emergency-preparedness-for-persons-with-disabilities-training/
LOCATION:Zoom
ORGANIZER;CN="Alabama Lifespan Respite/UCP Huntsville":MAILTO:tracyc@ucphuntsville.org
END:VEVENT
BEGIN:VEVENT
DTSTART;TZID=UTC:20260120T100000
DTEND;TZID=UTC:20260120T110000
DTSTAMP:20260420T213133
CREATED:20260114T211913Z
LAST-MODIFIED:20260114T211913Z
UID:5694-1768903200-1768906800@ucphuntsville.org
SUMMARY:Caregiver Support Group Jan. 20
DESCRIPTION:Register HERE\n \n 
URL:https://ucphuntsville.org/event/caregiver-support-group-jan-20/
LOCATION:Zoom
ORGANIZER;CN="Alabama Lifespan Respite/UCP Huntsville":MAILTO:tracyc@ucphuntsville.org
END:VEVENT
BEGIN:VEVENT
DTSTART;TZID=UTC:20260123T100000
DTEND;TZID=UTC:20260123T110000
DTSTAMP:20260420T213133
CREATED:20260114T214045Z
LAST-MODIFIED:20260114T214045Z
UID:5699-1769162400-1769166000@ucphuntsville.org
SUMMARY:Wandering\, Sundowning\, & Combativeness Education
DESCRIPTION:Register HERE
URL:https://ucphuntsville.org/event/wandering-sundowning-combativeness-education/
LOCATION:Zoom
ORGANIZER;CN="Alabama Lifespan Respite/UCP Huntsville":MAILTO:tracyc@ucphuntsville.org
END:VEVENT
BEGIN:VEVENT
DTSTART;TZID=UTC:20260129T100000
DTEND;TZID=UTC:20260129T120000
DTSTAMP:20260420T213133
CREATED:20260121T160846Z
LAST-MODIFIED:20260121T161455Z
UID:5709-1769680800-1769688000@ucphuntsville.org
SUMMARY:Family Connections Event at We Rock the Spectrum
DESCRIPTION:
URL:https://ucphuntsville.org/event/family-connections-event-at-we-rock-the-spectrum/
LOCATION:We Rock The Spectrum\, 326 Sutton Road\, Suite E-H\, Owens Cross Roads\, AL\, 35763\, United States
ORGANIZER;CN="Family Connections":MAILTO:kmacdonald@ucphuntsville.org
END:VEVENT
BEGIN:VEVENT
DTSTART;TZID=UTC:20260130T100000
DTEND;TZID=UTC:20260130T110000
DTSTAMP:20260420T213133
CREATED:20260114T214814Z
LAST-MODIFIED:20260114T214815Z
UID:5707-1769767200-1769770800@ucphuntsville.org
SUMMARY:Decision Fatigue & Cognitive Load in Caregiving Education
DESCRIPTION:Register HERE
URL:https://ucphuntsville.org/event/decision-fatigue-cognitive-load-in-caregiving-education/
LOCATION:Zoom
ORGANIZER;CN="Alabama Lifespan Respite/UCP Huntsville":MAILTO:tracyc@ucphuntsville.org
END:VEVENT
BEGIN:VEVENT
DTSTART;TZID=UTC:20260210T090000
DTEND;TZID=UTC:20260210T110000
DTSTAMP:20260420T213133
CREATED:20260123T144801Z
LAST-MODIFIED:20260123T144801Z
UID:5732-1770714000-1770721200@ucphuntsville.org
SUMMARY:Parent Connections- connecting parents and caregivers of children with developmental delays!
DESCRIPTION:Childcare provided on a limited basis for children 11/2-5 years of ae. Register with the QR code or with https://forms.gle/XEr9yffjis4ZP8SE9.
URL:https://ucphuntsville.org/event/parent-connections-connecting-parents-and-caregivers-of-children-with-developmental-delays/
LOCATION:UCP Training Center\, 1856 Keats Dr. NW\, Huntsville\, AL\, 35810
END:VEVENT
BEGIN:VEVENT
DTSTART;TZID=UTC:20260220T090000
DTEND;TZID=UTC:20260220T110000
DTSTAMP:20260420T213133
CREATED:20260121T161749Z
LAST-MODIFIED:20260123T145517Z
UID:5716-1771578000-1771585200@ucphuntsville.org
SUMMARY:Family Connections- Kids Art Workshop!
DESCRIPTION:
URL:https://ucphuntsville.org/event/family-connections-art-day/
LOCATION:UCP Therapy Center\, 2075 Max Luther Drive NW\, Huntsville\, AL\, 35810
ORGANIZER;CN="Family Connections":MAILTO:kmacdonald@ucphuntsville.org
END:VEVENT
BEGIN:VEVENT
DTSTART;TZID=UTC:20260226T093000
DTEND;TZID=UTC:20260226T113000
DTSTAMP:20260420T213133
CREATED:20260121T161906Z
LAST-MODIFIED:20260123T145347Z
UID:5718-1772098200-1772105400@ucphuntsville.org
SUMMARY:Family Connections - Morning at Merrimack
DESCRIPTION:
URL:https://ucphuntsville.org/event/family-connections-at-merrimack/
LOCATION:Merrimack
ORGANIZER;CN="Family Connections":MAILTO:kmacdonald@ucphuntsville.org
END:VEVENT
BEGIN:VEVENT
DTSTART;TZID=UTC:20260305T163000
DTEND;TZID=UTC:20260305T183000
DTSTAMP:20260420T213133
CREATED:20260121T162029Z
LAST-MODIFIED:20260209T153100Z
UID:5720-1772728200-1772735400@ucphuntsville.org
SUMMARY:Family Connections- Read Across America Event
DESCRIPTION:Join us on the playground for books\, crafts\, games and activities!  https://forms.gle/CpXmBTH9VvM6KAtZ9
URL:https://ucphuntsville.org/event/family-connections-read-across-america-event/
LOCATION:UCP Therapy Center\, 2075 Max Luther Drive NW\, Huntsville\, AL\, 35810
ORGANIZER;CN="Family Connections":MAILTO:kmacdonald@ucphuntsville.org
END:VEVENT
BEGIN:VEVENT
DTSTART;TZID=UTC:20260331T093000
DTEND;TZID=UTC:20260331T113000
DTSTAMP:20260420T213133
CREATED:20260121T162331Z
LAST-MODIFIED:20260305T153432Z
UID:5724-1774949400-1774956600@ucphuntsville.org
SUMMARY:Family Connections- Easter Egg Hunt
DESCRIPTION:Join us on the playground for crafts\, games\, and an egg hunt with the Easter Bunny! Sign up here: https://forms.gle/nibF7NipdWgbbpU4A
URL:https://ucphuntsville.org/event/family-connections-easter-egg-hunt/
LOCATION:UCP Therapy Center\, 2075 Max Luther Drive NW\, Huntsville\, AL\, 35810
ORGANIZER;CN="Family Connections":MAILTO:kmacdonald@ucphuntsville.org
END:VEVENT
BEGIN:VEVENT
DTSTART;TZID=UTC:20260417T093000
DTEND;TZID=UTC:20260417T113000
DTSTAMP:20260420T213133
CREATED:20260121T162429Z
LAST-MODIFIED:20260305T153707Z
UID:5726-1776418200-1776425400@ucphuntsville.org
SUMMARY:Family Connections- Stay and Play
DESCRIPTION:Sign up here and join us on the playground! https://forms.gle/PLdDVpvG9aHsNvWk7
URL:https://ucphuntsville.org/event/family-connections-stay-and-play/
LOCATION:UCP Therapy Center\, 2075 Max Luther Drive NW\, Huntsville\, AL\, 35810
ORGANIZER;CN="Family Connections":MAILTO:kmacdonald@ucphuntsville.org
END:VEVENT
BEGIN:VEVENT
DTSTART;TZID=UTC:20260430T093000
DTEND;TZID=UTC:20260430T113000
DTSTAMP:20260420T213133
CREATED:20260121T162518Z
LAST-MODIFIED:20260121T162518Z
UID:5728-1777541400-1777548600@ucphuntsville.org
SUMMARY:Family Connections- Stay and Play
DESCRIPTION:more details coming soon!
URL:https://ucphuntsville.org/event/family-connections-stay-and-play-2/
LOCATION:UCP Therapy Center\, 2075 Max Luther Drive NW\, Huntsville\, AL\, 35810
ORGANIZER;CN="Family Connections":MAILTO:kmacdonald@ucphuntsville.org
END:VEVENT
BEGIN:VEVENT
DTSTART;TZID=UTC:20260508T093000
DTEND;TZID=UTC:20260508T113000
DTSTAMP:20260420T213133
CREATED:20260420T155837Z
LAST-MODIFIED:20260420T155837Z
UID:5777-1778232600-1778239800@ucphuntsville.org
SUMMARY:Mommy & Me Tea
DESCRIPTION:Stay tuned\, more information coming soon!
URL:https://ucphuntsville.org/event/mommy-me-tea/
LOCATION:UCP Therapy Center\, 2075 Max Luther Drive NW\, Huntsville\, AL\, 35810
END:VEVENT
BEGIN:VEVENT
DTSTART;TZID=UTC:20260515T100000
DTEND;TZID=UTC:20260515T120000
DTSTAMP:20260420T213133
CREATED:20260420T160301Z
LAST-MODIFIED:20260420T160301Z
UID:5779-1778839200-1778846400@ucphuntsville.org
SUMMARY:Hay's Nature Preserve file trip!
DESCRIPTION:Stay tuned\, more information coming soon!
URL:https://ucphuntsville.org/event/hays-nature-preserve-file-trip/
LOCATION:Hays Nature Preserve\, 7161 US-431\, Owens Cross Roads\, Alabama\, 35763
END:VEVENT
BEGIN:VEVENT
DTSTART;TZID=UTC:20260605T090000
DTEND;TZID=UTC:20260605T110000
DTSTAMP:20260420T213133
CREATED:20260420T160356Z
LAST-MODIFIED:20260420T160356Z
UID:5780-1780650000-1780657200@ucphuntsville.org
SUMMARY:Boyd's Farm field trip
DESCRIPTION:Stay tuned\, more information coming soon!
URL:https://ucphuntsville.org/event/boyds-farm-field-trip/
LOCATION:AL
END:VEVENT
BEGIN:VEVENT
DTSTART;TZID=UTC:20260612T093000
DTEND;TZID=UTC:20260612T113000
DTSTAMP:20260420T213133
CREATED:20260420T160436Z
LAST-MODIFIED:20260420T160436Z
UID:5781-1781256600-1781263800@ucphuntsville.org
SUMMARY:Water Day at UCP!
DESCRIPTION:Stay tuned\, more information coming soon!
URL:https://ucphuntsville.org/event/water-day-at-ucp/
LOCATION:UCP Therapy Center\, 2075 Max Luther Drive NW\, Huntsville\, AL\, 35810
END:VEVENT
BEGIN:VEVENT
DTSTART;TZID=UTC:20260619T093000
DTEND;TZID=UTC:20260619T113000
DTSTAMP:20260420T213133
CREATED:20260420T160614Z
LAST-MODIFIED:20260420T160614Z
UID:5782-1781861400-1781868600@ucphuntsville.org
SUMMARY:Donuts with Dad at UCP
DESCRIPTION:Stay tuned\, more information coming soon!
URL:https://ucphuntsville.org/event/donuts-with-dad-at-ucp/
LOCATION:AL
END:VEVENT
BEGIN:VEVENT
DTSTART;TZID=UTC:20260626T180000
DTEND;TZID=UTC:20260626T210000
DTSTAMP:20260420T213133
CREATED:20251028T203448Z
LAST-MODIFIED:20260420T155653Z
UID:5587-1782496800-1782507600@ucphuntsville.org
SUMMARY:Emerald Evening 2026 Presented by COLSA
DESCRIPTION:Get ready for a night out with purpose! Emerald Evening brings together friends\, community\, and fun with interactive activities\, great food and drinks\, and a lively silent auction—all supporting UCP Huntsville’s mission.
URL:https://ucphuntsville.org/event/emerald-evening-2026/
LOCATION:Stovehouse
ORGANIZER;CN="UCP Huntsville":MAILTO:nthompson@ucphuntsville.org
END:VEVENT
BEGIN:VEVENT
DTSTART;TZID=UTC:20260710T100000
DTEND;TZID=UTC:20260710T120000
DTSTAMP:20260420T213133
CREATED:20260420T160748Z
LAST-MODIFIED:20260420T160748Z
UID:5783-1783677600-1783684800@ucphuntsville.org
SUMMARY:Sparkman Drive Library- field trip
DESCRIPTION:Stay tuned\, more information coming soon!
URL:https://ucphuntsville.org/event/sparkman-drive-library-field-trip/
LOCATION:Library- Sparkman Drive\, 3011 Sparkman Dr NW\, Huntsville\, Alabama\, 35810
END:VEVENT
BEGIN:VEVENT
DTSTART;TZID=UTC:20260717T100000
DTEND;TZID=UTC:20260717T120000
DTSTAMP:20260420T213133
CREATED:20260420T160933Z
LAST-MODIFIED:20260420T160933Z
UID:5785-1784282400-1784289600@ucphuntsville.org
SUMMARY:Everybody Can Play Splash Pad- field trip
DESCRIPTION:Stay tuned\, more information coming soon!
URL:https://ucphuntsville.org/event/everybody-can-play-splash-pad-field-trip/
LOCATION:Everybody Can Plan Splash Pad\, 3771 SW Ivy Ave\, Huntsville\, AL\, 35805\, United States
END:VEVENT
BEGIN:VEVENT
DTSTART;TZID=UTC:20260723T093000
DTEND;TZID=UTC:20260723T113000
DTSTAMP:20260420T213133
CREATED:20260420T161032Z
LAST-MODIFIED:20260420T161032Z
UID:5787-1784799000-1784806200@ucphuntsville.org
SUMMARY:Stay and Play at UCP
DESCRIPTION:Stay tuned\, more information coming soon!
URL:https://ucphuntsville.org/event/stay-and-play-at-ucp/
LOCATION:UCP Therapy Center\, 2075 Max Luther Drive NW\, Huntsville\, AL\, 35810
END:VEVENT
BEGIN:VEVENT
DTSTART;TZID=UTC:20260730T170000
DTEND;TZID=UTC:20260730T190000
DTSTAMP:20260420T213133
CREATED:20260420T161111Z
LAST-MODIFIED:20260420T161111Z
UID:5788-1785430800-1785438000@ucphuntsville.org
SUMMARY:End of Summer Bash at UCP
DESCRIPTION:Stay tuned\, more information coming soon!
URL:https://ucphuntsville.org/event/end-of-summer-bash-at-ucp/
LOCATION:UCP Therapy Center\, 2075 Max Luther Drive NW\, Huntsville\, AL\, 35810
END:VEVENT
END:VCALENDAR