BEGIN:VCALENDAR
VERSION:2.0
PRODID:-//UCP - ECPv6.15.0.1//NONSGML v1.0//EN
CALSCALE:GREGORIAN
METHOD:PUBLISH
X-ORIGINAL-URL:https://ucphuntsville.org
X-WR-CALDESC:Events for UCP
REFRESH-INTERVAL;VALUE=DURATION:PT1H
X-Robots-Tag:noindex
X-PUBLISHED-TTL:PT1H
BEGIN:VTIMEZONE
TZID:UTC
BEGIN:STANDARD
TZOFFSETFROM:+0000
TZOFFSETTO:+0000
TZNAME:UTC
DTSTART:20220101T000000
END:STANDARD
END:VTIMEZONE
BEGIN:VEVENT
DTSTART;TZID=UTC:20220924T080000
DTEND;TZID=UTC:20221231T170000
DTSTAMP:20260421T114901
CREATED:20220428T164443Z
LAST-MODIFIED:20220923T183900Z
UID:4399-1664006400-1672506000@ucphuntsville.org
SUMMARY:CCEP Fall Newsletter
DESCRIPTION:Read the full newsletter and learn about upcoming CCEP trainings HERE: \n \n \n \n 
URL:https://ucphuntsville.org/event/ccep-spring-newsletter/
LOCATION:AL
ORGANIZER;CN="Child Care Enhancement with a Purpose (CCEP)":MAILTO:manderson@ucphuntsville.org
END:VEVENT
BEGIN:VEVENT
DTSTART;VALUE=DATE:20221123
DTEND;VALUE=DATE:20221218
DTSTAMP:20260421T114901
CREATED:20211018T143848Z
LAST-MODIFIED:20221206T161314Z
UID:4226-1669161600-1671321599@ucphuntsville.org
SUMMARY:Flipping for the Future
DESCRIPTION:Bid to take your favorite dollhouse home for the holidays: BID HERE\nVote for your favorite team flip: VOTE \nUCP’s 3rd Annual Flipping for the Future\, a holiday event for downtown Huntsville\, will challenge the creativity\, vision and talents of local individuals and businesses in a friendly house flipping competition…\nDOLLHOUSE flipping\, that is! Teams have already started turning their fixer uppers into dream homes. The finished projects will be on display and ready for your votes on who has pulled off the best remodel\, Nov. 23-Dec. 16\, in downtown Huntsville. At this time\, they will also be up for your bids online so you can take one of these babies home. All miniature mansions\, diminutive duplexes and petite penthouses will be ready for new owners by Christmas!\nIf you’d like to sponsor this event\, host a house\, donate a house or have any further questions\, contact Leslie Walker\, lwalker@ucphuntsville.org. \nSponsored by: Huntsville Havoc Hockey\, Huntsville Madison County Homebuilders Association\, LLC\, Alabama Mountain Lakes Tourist Association\, IronMountain Solutions\, Inc. and Craig Comfort Control\, LLC.
URL:https://ucphuntsville.org/event/flipping-for-the-future/
LOCATION:Downtown Huntsville
ORGANIZER;CN="UCP Huntsville":MAILTO:nthompson@ucphuntsville.org
END:VEVENT
END:VCALENDAR