BEGIN:VCALENDAR
VERSION:2.0
PRODID:-//UCP - ECPv6.15.0.1//NONSGML v1.0//EN
CALSCALE:GREGORIAN
METHOD:PUBLISH
X-WR-CALNAME:UCP
X-ORIGINAL-URL:https://ucphuntsville.org
X-WR-CALDESC:Events for UCP
REFRESH-INTERVAL;VALUE=DURATION:PT1H
X-Robots-Tag:noindex
X-PUBLISHED-TTL:PT1H
BEGIN:VTIMEZONE
TZID:UTC
BEGIN:STANDARD
TZOFFSETFROM:+0000
TZOFFSETTO:+0000
TZNAME:UTC
DTSTART:20220101T000000
END:STANDARD
END:VTIMEZONE
BEGIN:VEVENT
DTSTART;VALUE=DATE:20220901
DTEND;VALUE=DATE:20221001
DTSTAMP:20260420T170328
CREATED:20220810T204928Z
LAST-MODIFIED:20220810T204928Z
UID:4449-1661990400-1664582399@ucphuntsville.org
SUMMARY:STEPtember Challenge for UCP
DESCRIPTION:UCP Huntsville is excited to let you know\, we are an official partner of the 2022 STEPtember Challenge!\nSTEPtember is an initiative of Cerebral Palsy Alliance Research Foundation (CPARF) and is the leading health and wellness challenge\, raising funds for our programs and cerebral palsy research and innovation.\nSTEPtember is all about getting active in ways that work for you. From September 1 to 30 we’ll come together to walk\, roll\, push\, swim\, or ride your way to the equivalent of 10\,000 steps a day and raise awareness and donations to support our programs.\nWhether that’s the 10K-steps-a-day way or meeting your own goal for getting active and moving\, we’re here for it — and for you.\nWant to learn more about STEPtember or get a head start? You can register today!\nWe can’t wait to share this amazing challenge with you.
URL:https://ucphuntsville.org/event/steptember-challenge-for-ucp/
LOCATION:Anywhere
END:VEVENT
END:VCALENDAR