BEGIN:VCALENDAR
VERSION:2.0
PRODID:-//UCP - ECPv6.15.0.1//NONSGML v1.0//EN
CALSCALE:GREGORIAN
METHOD:PUBLISH
X-ORIGINAL-URL:https://ucphuntsville.org
X-WR-CALDESC:Events for UCP
REFRESH-INTERVAL;VALUE=DURATION:PT1H
X-Robots-Tag:noindex
X-PUBLISHED-TTL:PT1H
BEGIN:VTIMEZONE
TZID:UTC
BEGIN:STANDARD
TZOFFSETFROM:+0000
TZOFFSETTO:+0000
TZNAME:UTC
DTSTART:20220101T000000
END:STANDARD
END:VTIMEZONE
BEGIN:VEVENT
DTSTART;TZID=UTC:20220122T080000
DTEND;TZID=UTC:20220122T160000
DTSTAMP:20260422T140827
CREATED:20220103T193546Z
LAST-MODIFIED:20220103T193546Z
UID:4300-1642838400-1642867200@ucphuntsville.org
SUMMARY:Exceptional Saturday Registration
DESCRIPTION:Register HERE \n \nRegister HERE
URL:https://ucphuntsville.org/event/exceptional-saturday-registration/
LOCATION:Park Memorial UMC\, 750 Elba Hwy\, Troy\, AL\, 36079
ORGANIZER;CN="Child Care Enhancement with a Purpose (CCEP)":MAILTO:manderson@ucphuntsville.org
END:VEVENT
END:VCALENDAR