BEGIN:VCALENDAR
VERSION:2.0
PRODID:-//UCP - ECPv6.15.0.1//NONSGML v1.0//EN
CALSCALE:GREGORIAN
METHOD:PUBLISH
X-WR-CALNAME:UCP
X-ORIGINAL-URL:https://ucphuntsville.org
X-WR-CALDESC:Events for UCP
REFRESH-INTERVAL;VALUE=DURATION:PT1H
X-Robots-Tag:noindex
X-PUBLISHED-TTL:PT1H
BEGIN:VTIMEZONE
TZID:UTC
BEGIN:STANDARD
TZOFFSETFROM:+0000
TZOFFSETTO:+0000
TZNAME:UTC
DTSTART:20210101T000000
END:STANDARD
END:VTIMEZONE
BEGIN:VEVENT
DTSTART;VALUE=DATE:20211224
DTEND;VALUE=DATE:20220103
DTSTAMP:20260420T225047
CREATED:20210726T155056Z
LAST-MODIFIED:20210726T155056Z
UID:4154-1640304000-1641167999@ucphuntsville.org
SUMMARY:UCP Holiday Season Hours
DESCRIPTION:The UCP Therapy Center & the UCP Training Center will be closed Dec. 24-31. Offices will reopen Monday\, Jan. 3\, 2022. Have a safe and happy holiday season!
URL:https://ucphuntsville.org/event/ucp-holiday-season-hours/
LOCATION:AL
END:VEVENT
END:VCALENDAR