BEGIN:VCALENDAR
VERSION:2.0
PRODID:-//UCP - ECPv6.15.0.1//NONSGML v1.0//EN
CALSCALE:GREGORIAN
METHOD:PUBLISH
X-ORIGINAL-URL:https://ucphuntsville.org
X-WR-CALDESC:Events for UCP
REFRESH-INTERVAL;VALUE=DURATION:PT1H
X-Robots-Tag:noindex
X-PUBLISHED-TTL:PT1H
BEGIN:VTIMEZONE
TZID:UTC
BEGIN:STANDARD
TZOFFSETFROM:+0000
TZOFFSETTO:+0000
TZNAME:UTC
DTSTART:20210101T000000
END:STANDARD
END:VTIMEZONE
BEGIN:VEVENT
DTSTART;TZID=UTC:20211203T190000
DTEND;TZID=UTC:20211203T210000
DTSTAMP:20260421T034444
CREATED:20210914T152423Z
LAST-MODIFIED:20210914T152423Z
UID:4206-1638558000-1638565200@ucphuntsville.org
SUMMARY:Star Wars Night at the Huntsville Havoc to benefit UCP Huntsville!
DESCRIPTION:Visit the Huntsville Havoc online for information and tickets!
URL:https://ucphuntsville.org/event/star-wars-night-at-the-huntsville-havoc-to-benefit-ucp-huntsville/
LOCATION:VBC South Hall\, 700 Monroe Street SW\, Huntsville\, AL\, 35801
END:VEVENT
END:VCALENDAR