BEGIN:VCALENDAR
VERSION:2.0
PRODID:-//UCP - ECPv6.15.0.1//NONSGML v1.0//EN
CALSCALE:GREGORIAN
METHOD:PUBLISH
X-WR-CALNAME:UCP
X-ORIGINAL-URL:https://ucphuntsville.org
X-WR-CALDESC:Events for UCP
REFRESH-INTERVAL;VALUE=DURATION:PT1H
X-Robots-Tag:noindex
X-PUBLISHED-TTL:PT1H
BEGIN:VTIMEZONE
TZID:UTC
BEGIN:STANDARD
TZOFFSETFROM:+0000
TZOFFSETTO:+0000
TZNAME:UTC
DTSTART:20210101T000000
END:STANDARD
END:VTIMEZONE
BEGIN:VEVENT
DTSTART;VALUE=DATE:20211125
DTEND;VALUE=DATE:20211127
DTSTAMP:20260421T055311
CREATED:20210726T154841Z
LAST-MODIFIED:20210726T154842Z
UID:4152-1637798400-1637971199@ucphuntsville.org
SUMMARY:UCP Holiday Hours: Thanksgiving
DESCRIPTION:The UCP Therapy Center & the UCP Training Center will be closed Nov. 25 & 26 in observance of the Thanksgiving holiday. Have a safe and happy holiday weekend! \n\n\n 
URL:https://ucphuntsville.org/event/ucp-holiday-hours-thanksgiving/
LOCATION:AL
END:VEVENT
END:VCALENDAR